BEGIN:VCALENDAR
VERSION:2.0
PRODID:-//Warehouse9 - ECPv6.15.15//NONSGML v1.0//EN
CALSCALE:GREGORIAN
METHOD:PUBLISH
X-WR-CALNAME:Warehouse9
X-ORIGINAL-URL:https://warehouse9.dk/da
X-WR-CALDESC:Begivenheder for Warehouse9
REFRESH-INTERVAL;VALUE=DURATION:PT1H
X-Robots-Tag:noindex
X-PUBLISHED-TTL:PT1H
BEGIN:VTIMEZONE
TZID:America/New_York
BEGIN:DAYLIGHT
TZOFFSETFROM:-0500
TZOFFSETTO:-0400
TZNAME:EDT
DTSTART:20230312T070000
END:DAYLIGHT
BEGIN:STANDARD
TZOFFSETFROM:-0400
TZOFFSETTO:-0500
TZNAME:EST
DTSTART:20231105T060000
END:STANDARD
BEGIN:DAYLIGHT
TZOFFSETFROM:-0500
TZOFFSETTO:-0400
TZNAME:EDT
DTSTART:20240310T070000
END:DAYLIGHT
BEGIN:STANDARD
TZOFFSETFROM:-0400
TZOFFSETTO:-0500
TZNAME:EST
DTSTART:20241103T060000
END:STANDARD
BEGIN:DAYLIGHT
TZOFFSETFROM:-0500
TZOFFSETTO:-0400
TZNAME:EDT
DTSTART:20250309T070000
END:DAYLIGHT
BEGIN:STANDARD
TZOFFSETFROM:-0400
TZOFFSETTO:-0500
TZNAME:EST
DTSTART:20251102T060000
END:STANDARD
END:VTIMEZONE
BEGIN:VEVENT
DTSTART;VALUE=DATE:20240413
DTEND;VALUE=DATE:20240415
DTSTAMP:20260420T083121
CREATED:20240319T130428Z
LAST-MODIFIED:20240319T130530Z
UID:10000317-1712966400-1713139199@warehouse9.dk
SUMMARY:Linh Le Open Studio (Fusebox Festival\, ATX)
DESCRIPTION:  \n\n\n\n\nPresented in partnership with  The Museum of Human Achievement and Fusebox Festival. This event  takes place in Austin\, Texas. \nText  from event website: \nDenmark based artist in residence thanks to the residency exchange of Warehouse9 (Copenhagen\, Denmark)\, Unlisted Projects (Austin\, TX) and The Museum of Human Achievement (Austin\, Texas). \nMore info on the open studio coming soon! \nLinh Le (she / her) works with performative activism and fights for a just world for life on earth. At the moment\, she explores the sensuousness and philosophy of species\, making rituals for the diversity of life. \nLinh Le is of a new generation of artists who with their own bodies are exploring the possibility of finding a balance between a growing desperation in a world of polycrisis and maintaining the belief in a different way of being human / species. \nAs a child of freedom fighters who came to Denmark as boat refugees from Vietnam\, and as a witness to their struggles in Danish society\, Linh Le is strongly called to free herself through dance\, to challenge the norms\, to transcend boundaries and explore how the body can act\, transform and demand space for the less heard voices. \nLinh Le is educated in Aesthetics and Culture from Aarhus University and Performance Design & Planning from Roskilde University. She is co-founder and member of the performance climate activist group Becoming Species which in close alliance with Extinction Rebellion and Embassy of the Species Copenhagen has made several performative actions in public space to amplify nature’s diverse voices. \nLinh Le is also a member of Dance Cooperative\, an artist-run platform and association with a physical work- and event space in Valby Copenhagen\, organized by 14 local performance artists. \nThis Residency is funded with the support of: Embassy of Denmark Washington D.C.\,The Consulate General of Denmark in Houston\, Scan Design Foundation\, the Danish Arts Foundation\, the Cultural Arts Department in Austin and The City of Copenhagen. \n\n\n  \n\n\n\n\n 
URL:https://warehouse9.dk/da/event/linh-le-open-studio-fusebox-festival-atx/
LOCATION:Museum of Human Achievement\, 0205150312\, 3600 Lyons Rd Suite B\, Austin\, TX 78702\, United States0205150312\, 3600 Lyons Rd Suite B\, Austin\, TX 78702\, United States\, Texas\, United States
ATTACH;FMTTYPE=image/jpeg:https://warehouse9.dk/wp-content/uploads/2024/03/Untitled-design-1.jpeg
END:VEVENT
BEGIN:VEVENT
DTSTART;TZID=America/New_York:20240423T190000
DTEND;TZID=America/New_York:20240423T210000
DTSTAMP:20260420T083121
CREATED:20240422T065245Z
LAST-MODIFIED:20240422T065537Z
UID:10000326-1713898800-1713906000@warehouse9.dk
SUMMARY:Performative ritual for the bat species (ATX\,USA)
DESCRIPTION:Note: This event takes place in Austin\, Texas (USA) \n  \nConnect with a bat species and feel the freedom of flying and screaming! \nIn our time of biodiversity crisis where 52 % of bat species in North America are at risk of populations declining severely in the next 15 years\, we meet up to celebrate the magical creatures of the night and the diversity of life. \nThis is the final presentation of performance artist and climate activist Linh Le who has reached her end of the 1-month residency as part of Unlisted Projects\, a collaboration between Warehouse9 and MoHA. During her stay\, she has been volunteering at the Austin Bat Refuge\, collaborating with visual artist Laura M Cañas P\, opera singer Sir Beauregard Elliot\, Esquire and artist Andie Flores. \nLinh Le is inviting everyone to take part in her performance ritual 7-8 pm and join for dinner and talk 8-9 pm.
URL:https://warehouse9.dk/da/event/performative-ritual-for-the-bat-species-atxusa/
LOCATION:Museum of Human Achievement\, 0205150312\, 3600 Lyons Rd Suite B\, Austin\, TX 78702\, United States0205150312\, 3600 Lyons Rd Suite B\, Austin\, TX 78702\, United States\, Texas\, United States
ATTACH;FMTTYPE=image/jpeg:https://warehouse9.dk/wp-content/uploads/2024/03/Untitled-design-1.jpeg
ORGANIZER;CN="Warehouse9":MAILTO:info@warehouse9.dk
END:VEVENT
END:VCALENDAR