BEGIN:VCALENDAR
VERSION:2.0
PRODID:-//Warehouse9 - ECPv6.15.15//NONSGML v1.0//EN
CALSCALE:GREGORIAN
METHOD:PUBLISH
X-WR-CALNAME:Warehouse9
X-ORIGINAL-URL:https://warehouse9.dk
X-WR-CALDESC:Events for Warehouse9
REFRESH-INTERVAL;VALUE=DURATION:PT1H
X-Robots-Tag:noindex
X-PUBLISHED-TTL:PT1H
BEGIN:VTIMEZONE
TZID:Europe/London
BEGIN:DAYLIGHT
TZOFFSETFROM:+0000
TZOFFSETTO:+0100
TZNAME:BST
DTSTART:20230326T010000
END:DAYLIGHT
BEGIN:STANDARD
TZOFFSETFROM:+0100
TZOFFSETTO:+0000
TZNAME:GMT
DTSTART:20231029T010000
END:STANDARD
BEGIN:DAYLIGHT
TZOFFSETFROM:+0000
TZOFFSETTO:+0100
TZNAME:BST
DTSTART:20240331T010000
END:DAYLIGHT
BEGIN:STANDARD
TZOFFSETFROM:+0100
TZOFFSETTO:+0000
TZNAME:GMT
DTSTART:20241027T010000
END:STANDARD
BEGIN:DAYLIGHT
TZOFFSETFROM:+0000
TZOFFSETTO:+0100
TZNAME:BST
DTSTART:20250330T010000
END:DAYLIGHT
BEGIN:STANDARD
TZOFFSETFROM:+0100
TZOFFSETTO:+0000
TZNAME:GMT
DTSTART:20251026T010000
END:STANDARD
END:VTIMEZONE
BEGIN:VEVENT
DTSTART;TZID=Europe/London:20240810T170000
DTEND;TZID=Europe/London:20240810T180000
DTSTAMP:20260424T102445
CREATED:20240702T102342Z
LAST-MODIFIED:20240807T133015Z
UID:10000348-1723309200-1723312800@warehouse9.dk
SUMMARY:Work-in-Progress Showing: 'Drama' by A Ourø / A Kasakove
DESCRIPTION:Welcome to a work-in-progress showing of the work ‘Drama’. We will perform a 20 minute glimpse of the piece after which we welcome you to a casual reflection discussion and some good snacks.  \n\nWork-in-progress program text: \n‘Drama’ is the last part of a trilogy of works on loss that began in 2018. These works attend to the unknown\, the unknowable\, the looming\, and the never fully graspable. The performance ‘Drama’ takes place in a tragicomic sphere\, where comedy and grief accompany each other. The piece uses humor as a way to address hopelessness. The research looks into different artistic forms of drama without imposing a clear narrative or a definitive plot. ‘Drama’ navigates between concrete references and fragile and abstract forms. As we now near the end of this trilogy\, we reflect how this work can take part in addressing grief at this current time. The work does not look for a resolution\, yet it creates a stage\, invites an audience and proposes a dance with humor\, uncertainty and a sense of communal solitude. \n  \nThe costumes have been developed in close collaboration with costume designer Lærke Valum\nDance\, choreography\, music and production by Anna Lea Ourø and Amalia Kasakove\nMusic mentorship by ML Buch\nTailoring by Aina Erika Jonasson\nWith the support of Warehouse9\, Milvus Artistic Research Center\, Bora Bora\, La Bellone\, Théâtre Sévelin 36\, Dansehallerne\, Ställbergs Gruva\, Aaben Dans\, Dance Cooperative and Dansk Skuespillerforbund and Statens Kunstfond.                                                                                                                          \n  \nBio: \nAnna Lea Ourø (DK) and Amalia Kasakove (FIN/SWE) form the artist duo A Ourø / A Kasakove that resides in the field of dance and choreography. They have both received a Bachelor in Dance and Choreography from The Danish National School of Performing Arts (2017). Kasakove holds a MFA in Choreography from Stockholm University of the Arts (2022) and Ourø is currently amidst the Master in Choreography and Performance studies at Justus-Liebig-Universität in Gießen. Their work has been situated at places such as Warehouse9\, Ställbergs Gruva\, Aaben Dans\, Milvus Artistic Research Center\, La Bellone\, Théâtre Sévelin 36\, HAUT\, Dansehallerne\, DANSEatelier\, CPH STAGE and Dance Cooperative.  \n  \nHow to attend:\nFree\, no need to RSVP\, just turn up. \nAccess Information:\nWarehouse9 has level free entrance to the space and an accessible toilet that can be accessed via a certified stairlift.\nAll events at Warehouse9 are considered “relaxed”. We operate with a safer space policy and ask that you orientate yourself upon entry to the space. \n 
URL:https://warehouse9.dk/event/work-in-progress-showing-drama/
LOCATION:Warehouse9\, Rosenlunds Allé 5\, Baghuset\, Copenhagen\, 2720\, Denmark
ATTACH;FMTTYPE=image/jpeg:https://warehouse9.dk/wp-content/uploads/2024/07/Drama.jpeg
ORGANIZER;CN="Warehouse9":MAILTO:info@warehouse9.dk
END:VEVENT
END:VCALENDAR